BEGIN:VCALENDAR
VERSION:2.0
PRODID:https://www.kufer.de/kuferweb / DE
METHOD:PUBLISH
CALSCALE:GREGORIAN
X-WR-TIMEZONE:Europe/Berlin
BEGIN:VTIMEZONE
TZID:Europe/Berlin
X-LIC-LOCATION:Europe/Berlin
BEGIN:DAYLIGHT
TZOFFSETFROM:+0100
TZOFFSETTO:+0200
TZNAME:CEST
DTSTART:19700329T020000
RRULE:FREQ=YEARLY;INTERVAL=1;BYDAY=-1SU;BYMONTH=3
END:DAYLIGHT
BEGIN:STANDARD
TZOFFSETFROM:+0200
TZOFFSETTO:+0100
TZNAME:CET
DTSTART:19701025T030000
RRULE:FREQ=YEARLY;INTERVAL=1;BYDAY=-1SU;BYMONTH=10
END:STANDARD
END:VTIMEZONE
BEGIN:VEVENT
DTSTAMP:20260421T120737
DTSTART;TZID=Europe/Berlin:20260415T183000
DTEND;TZID=Europe/Berlin:20260415T200000
UID:A.40825GS-20260415T183000@KVHSSWPKVHS-SWP
SUMMARY:Französisch A2 (mit Grundkenntnissen) - Kursabschnitt 5 (A.40825GS) 
LOCATION:66994 Dahn, vhs-Zentrum, Geschwister-Scholl-Straße 2, R5, Geschwister-Scholl-Straße 2, 66994 Dahn
END:VEVENT
BEGIN:VEVENT
DTSTAMP:20260421T120737
DTSTART;TZID=Europe/Berlin:20260422T183000
DTEND;TZID=Europe/Berlin:20260422T200000
UID:A.40825GS-20260422T183000@KVHSSWPKVHS-SWP
SUMMARY:Französisch A2 (mit Grundkenntnissen) - Kursabschnitt 5 (A.40825GS) 
LOCATION:66994 Dahn, vhs-Zentrum, Geschwister-Scholl-Straße 2, R5, Geschwister-Scholl-Straße 2, 66994 Dahn
END:VEVENT
BEGIN:VEVENT
DTSTAMP:20260421T120737
DTSTART;TZID=Europe/Berlin:20260429T183000
DTEND;TZID=Europe/Berlin:20260429T200000
UID:A.40825GS-20260429T183000@KVHSSWPKVHS-SWP
SUMMARY:Französisch A2 (mit Grundkenntnissen) - Kursabschnitt 5 (A.40825GS) 
LOCATION:66994 Dahn, vhs-Zentrum, Geschwister-Scholl-Straße 2, R5, Geschwister-Scholl-Straße 2, 66994 Dahn
END:VEVENT
BEGIN:VEVENT
DTSTAMP:20260421T120737
DTSTART;TZID=Europe/Berlin:20260506T183000
DTEND;TZID=Europe/Berlin:20260506T200000
UID:A.40825GS-20260506T183000@KVHSSWPKVHS-SWP
SUMMARY:Französisch A2 (mit Grundkenntnissen) - Kursabschnitt 5 (A.40825GS) 
LOCATION:66994 Dahn, vhs-Zentrum, Geschwister-Scholl-Straße 2, R5, Geschwister-Scholl-Straße 2, 66994 Dahn
END:VEVENT
BEGIN:VEVENT
DTSTAMP:20260421T120737
DTSTART;TZID=Europe/Berlin:20260513T183000
DTEND;TZID=Europe/Berlin:20260513T200000
UID:A.40825GS-20260513T183000@KVHSSWPKVHS-SWP
SUMMARY:Französisch A2 (mit Grundkenntnissen) - Kursabschnitt 5 (A.40825GS) 
LOCATION:66994 Dahn, vhs-Zentrum, Geschwister-Scholl-Straße 2, R5, Geschwister-Scholl-Straße 2, 66994 Dahn
END:VEVENT
BEGIN:VEVENT
DTSTAMP:20260421T120737
DTSTART;TZID=Europe/Berlin:20260520T183000
DTEND;TZID=Europe/Berlin:20260520T200000
UID:A.40825GS-20260520T183000@KVHSSWPKVHS-SWP
SUMMARY:Französisch A2 (mit Grundkenntnissen) - Kursabschnitt 5 (A.40825GS) 
LOCATION:66994 Dahn, vhs-Zentrum, Geschwister-Scholl-Straße 2, R5, Geschwister-Scholl-Straße 2, 66994 Dahn
END:VEVENT
BEGIN:VEVENT
DTSTAMP:20260421T120737
DTSTART;TZID=Europe/Berlin:20260527T183000
DTEND;TZID=Europe/Berlin:20260527T200000
UID:A.40825GS-20260527T183000@KVHSSWPKVHS-SWP
SUMMARY:Französisch A2 (mit Grundkenntnissen) - Kursabschnitt 5 (A.40825GS) 
LOCATION:66994 Dahn, vhs-Zentrum, Geschwister-Scholl-Straße 2, R5, Geschwister-Scholl-Straße 2, 66994 Dahn
END:VEVENT
BEGIN:VEVENT
DTSTAMP:20260421T120737
DTSTART;TZID=Europe/Berlin:20260603T183000
DTEND;TZID=Europe/Berlin:20260603T200000
UID:A.40825GS-20260603T183000@KVHSSWPKVHS-SWP
SUMMARY:Französisch A2 (mit Grundkenntnissen) - Kursabschnitt 5 (A.40825GS) 
LOCATION:66994 Dahn, vhs-Zentrum, Geschwister-Scholl-Straße 2, R5, Geschwister-Scholl-Straße 2, 66994 Dahn
END:VEVENT
BEGIN:VEVENT
DTSTAMP:20260421T120737
DTSTART;TZID=Europe/Berlin:20260610T183000
DTEND;TZID=Europe/Berlin:20260610T200000
UID:A.40825GS-20260610T183000@KVHSSWPKVHS-SWP
SUMMARY:Französisch A2 (mit Grundkenntnissen) - Kursabschnitt 5 (A.40825GS) 
LOCATION:66994 Dahn, vhs-Zentrum, Geschwister-Scholl-Straße 2, R5, Geschwister-Scholl-Straße 2, 66994 Dahn
END:VEVENT
BEGIN:VEVENT
DTSTAMP:20260421T120737
DTSTART;TZID=Europe/Berlin:20260617T183000
DTEND;TZID=Europe/Berlin:20260617T200000
UID:A.40825GS-20260617T183000@KVHSSWPKVHS-SWP
SUMMARY:Französisch A2 (mit Grundkenntnissen) - Kursabschnitt 5 (A.40825GS) 
LOCATION:66994 Dahn, vhs-Zentrum, Geschwister-Scholl-Straße 2, R5, Geschwister-Scholl-Straße 2, 66994 Dahn
END:VEVENT
END:VCALENDAR